BEGIN:VCALENDAR
VERSION:2.0
PRODID:-//wp-events-plugin.com//7.2.3.1//EN
TZID:Europe/Berlin
X-WR-TIMEZONE:Europe/Berlin
BEGIN:VEVENT
UID:29@dge-mv.de
DTSTART;TZID=Europe/Berlin:20260505T173000
DTEND;TZID=Europe/Berlin:20260519T193000
DTSTAMP:20260415T074257Z
URL:https://dge-mv.de/veranstaltungen/2275/
SUMMARY:Die Blase - Ernährungstherapeutische Ansätze bei Entzündungen\, 
 Schmerzen\, Harndrang und Co.
DESCRIPTION:Die Blase - Ernährungstherapeutische Ansätze bei Entzündunge
 n\, Schmerzen\, Harndrang und Co.\n\nHarnwegsinfektionen\, Blasenschmerzen
 \, Inkontinenz u.v.m. stellen für Betroffene zum Teil eine erhebliche Bel
 astung im Alltag dar. Neben medizinischen Behandlungsansätzen rückt die 
 Ernährung zunehmend als präventiver und therapeutischer Baustein in den 
 Fokus. In diesem Seminar bekommen Sie fundiertes\, praxisnahes Fachwissen
  zu den verschiedenen Erkrankungen rund um die Harnblase. Den Bereich der 
 Diagnostik und medizinischen Therapie übernimmt der Urologe Dr. Winfried 
 Vahlensieck und die Diplom-Oecotrophologin Dr. Petra Goergens stellt ernä
 hrungstherapeutische Ansätze vor. Die Kombination von medizinischen und e
 rnährungswissenschaftlichen Kenntnissen und Erfahrungen ermöglicht Neuei
 nsteiger*innen in diesem Fachgebiet ein umfassendes\, interdisziplinäres 
 Verständnis für das Thema. Aber auch schon routinierte Therapeuten könn
 en von dem Erfahrungsschatz der beiden Fachexperten auf diesem Gebiet prof
 itieren.\n\nInhalte:\n\n 	Anatomie und Funktion: Harnblase\, harnableitend
 e Organe\, Beckenboden\, Prostata\n 	Überblick über urologische Erkranku
 ngen\n 	Schwerpunkte: rezidivierende Harnwegsinfektionen\, Interstitielle 
 Zystitis\, Harnsteine\, Inkontinenz\, überaktive Harnblase\, Z.n. Zystekt
 omie/Neoblase\n 	Grundlagen der Diagnostik\n 	Urin: Zusammensetzung\, Ver
 änderungen (Farbe\, Geruch\, etc.)\, Urobiom\n 	Leitlinien\n 	medikament
 öse Therapien\, Phytotherapie\n 	ernährungstherapeutische Ansätze\n\nTe
 rmin:\n\nAchtung: Das Seminar findet an 3 Terminen statt!\n\n\n\n\n05.05.2
 026 17:30 bis 19:30 Uhr\n\n12.05.2026 17:30 bis 19:30 Uhr\n\n19.05.2026 17
 :30 bis 19:30 Uhr\n\n\n\n(7 UEs à 45 Minuten).\n\nAlle drei Termine gehö
 ren zum gleichen Seminar und bauen aufeinander auf!\n\nGebühr:\n\nDGE Mit
 glieder 160\,00 Euro\; Nicht-DGE-Mitglieder: 170\,00 Euro \n\nZielgruppe
 :\n\nErnährungstherapeut*innen\, Ärzt*innen\, Fachkräfte aus den Bereic
 hen Gesundheit\, Bildung\, Prävention und Public Health\n\nReferent/-in:\
 n\nPD Dr. W. Vahlensieck\, ehem. Chefarzt der Fachklinik Urologie\, Kurpar
 k-Klinik Bad Nauheim\n\nDr. Petra Goergens\, Diplom-Oecotrophologin\, Prax
 is für Ernährungstherapie Lüneburg\n\n!PROBLEME bei der ANMELDUNG? Schr
 eiben Sie bitte eine Mail an:  ross@dge.de
ATTACH;FMTTYPE=image/jpeg:https://dge-mv.de/wp-content/uploads/2024/11/edu
 cation-5578742_1280-1.png
CATEGORIES:Online-Seminar
END:VEVENT
BEGIN:VTIMEZONE
TZID:Europe/Berlin
X-LIC-LOCATION:Europe/Berlin
BEGIN:DAYLIGHT
DTSTART:20260329T030000
TZOFFSETFROM:+0100
TZOFFSETTO:+0200
TZNAME:CEST
END:DAYLIGHT
END:VTIMEZONE
END:VCALENDAR