BEGIN:VCALENDAR
VERSION:2.0
PRODID:-//wp-events-plugin.com//7.2.3.1//EN
TZID:Europe/Berlin
X-WR-TIMEZONE:Europe/Berlin
BEGIN:VEVENT
UID:30@dge-mv.de
DTSTART;TZID=Europe/Berlin:20260427T090000
DTEND;TZID=Europe/Berlin:20260427T123000
DTSTAMP:20260109T123911Z
URL:https://dge-mv.de/veranstaltungen/im-fokus-der-magen-ernaehrungstherap
 ie-bei-gastritis-refluxerkrankung-und-reizmagen-2/
SUMMARY:Im Fokus: Der Magen – Ernährungstherapie bei Gastritis\, Refluxe
 rkrankung und Reizmagen
DESCRIPTION:Im Fokus: Der Magen – Ernährungstherapie bei Gastritis\, Ref
 luxerkrankung und Reizmagen\n\n„Es fühlt sich an\, wie Feuer im Bauch
 …“ so oder so ähnlich beschreiben es die Patient*innen\, die mit Symp
 tomen\, wie Magenschmerzen\, Übelkeit\, Sodbrennen\, permanentes Aufstoß
 en von Luft und Völlegefühl nach Hilfe suchen. Welche Möglichkeiten bie
 tet die Ernährungstherapie? Wie sollte eine individuelle Ernährungsweise
  aussehen\, die die Symptome lindert\, eine optimale Nährstoffversorgung 
 sicherstellt und die Freude am Essen erhält oder wiederherstellt? Die Ber
 atung von Patienten mit Magenproblemen erfordert viel praktische Beratungs
 kompetenz und Empathie – beides soll in diesem Seminar erlebt und vermit
 telt werden.\n\nInhalte:\n\n 	Update Magen: Gastritis\, Refluxerkrankung\,
  Reizmagen\n 	Ernährungstherapie mit vielen praktische Tipps für den All
 tag\n 	Fallbeispiele\n\nTermin: 27.04.2026 09:00 – 12:30 Uhr (4 UE)\n\nG
 ebühr: DGE Mitglieder 55\,00 Euro\; Nicht-DGE-Mitglieder: 65\,00 Euro\n\
 nZielgruppe:\n\nErnährungsfachkräfte\, Ärzt*innen\, Apotheker*innen\, F
 achkräfte aus den Bereichen Gesundheit\, Bildung\, Prävention und Public
  Health\n\nReferent/-in:\nClaudia Thienel\, Diplom-Oecotrophologin\, (QUET
 HEB-Registrierung)\, Ernährungsfachkraft Allergologie DAAB\, Ernährungsb
 eraterin DGE
ATTACH;FMTTYPE=image/jpeg:https://dge-mv.de/wp-content/uploads/2024/11/edu
 cation-5578742_1280-1.png
CATEGORIES:Online-Seminar
END:VEVENT
BEGIN:VTIMEZONE
TZID:Europe/Berlin
X-LIC-LOCATION:Europe/Berlin
BEGIN:DAYLIGHT
DTSTART:20260329T030000
TZOFFSETFROM:+0100
TZOFFSETTO:+0200
TZNAME:CEST
END:DAYLIGHT
END:VTIMEZONE
END:VCALENDAR