BEGIN:VCALENDAR
VERSION:2.0
PRODID:-//wp-events-plugin.com//7.2.3.1//EN
TZID:Europe/Berlin
X-WR-TIMEZONE:Europe/Berlin
BEGIN:VEVENT
UID:23@dge-mv.de
DTSTART;TZID=Europe/Berlin:20251106T090000
DTEND;TZID=Europe/Berlin:20251106T123000
DTSTAMP:20250729T083416Z
URL:https://dge-mv.de/veranstaltungen/im-fokus-der-magen-ernaehrungstherap
 ie-bei-gastritis-refluxerkrankung-und-reizmagen/
SUMMARY:Im Fokus: Der Magen - Ernährungstherapie bei Gastritis\, Refluxerk
 rankung und Reizmagen
DESCRIPTION:Im Fokus: Der Magen - Ernährungstherapie bei Gastritis\, Reflu
 xerkrankung und Reizmagen\n\n„Es fühlt sich an\, wie Feuer im Bauch…
 “ so oder so ähnlich beschreiben es die Patient*innen\, die mit Symptom
 en\, wie Magenschmerzen\, Übelkeit\, Sodbrennen\, permanentes Aufstoßen 
 von Luft und Völlegefühl nach Hilfe suchen. Welche Möglichkeiten bietet
  die Ernährungstherapie? Wie sollte eine individuelle Ernährungsweise au
 ssehen\, die die Symptome lindert\, eine optimale Nährstoffversorgung sic
 herstellt und die Freude am Essen erhält oder wiederherstellt? Die Beratu
 ng von Patienten mit Magenproblemen erfordert viel praktische Beratungskom
 petenz und Empathie – beides soll in diesem Seminar erlebt und vermittel
 t werden.\n\nInhalte:\n\n 	Update Magen: Gastritis\, Refluxerkrankung\, Re
 izmagen\n 	Ernährungstherapie mit vielen praktische Tipps für den Alltag
 \n 	Gruppenarbeiten\n\nTermin: 6.11.2025 09:00 – 12:30 Uhr (4 UE)\n\nGeb
 ühr: DGE Mitglieder 55\,00 Euro\; Nicht-DGE-Mitglieder: 60\,00 Euro\n\nZi
 elgruppe:\n\nErnährungsfachkräfte\, Ärzt*innen\, Apotheker*innen\, Fach
 kräfte aus den Bereichen Gesundheit\, Bildung\, Prävention und Public He
 alth\n\nReferent/-in:\nClaudia Thienel\, Diplom-Oecotrophologin\, (QUETHEB
 -Registrierung)\, Ernährungsfachkraft Allergologie DAAB\n\n&nbsp\;\n\nBil
 d: Bild von Edurs34 auf Pixabay
ATTACH;FMTTYPE=image/jpeg:https://dge-mv.de/wp-content/uploads/2025/01/sto
 mach-5671354_1280.png
CATEGORIES:Online-Seminar
END:VEVENT
BEGIN:VTIMEZONE
TZID:Europe/Berlin
X-LIC-LOCATION:Europe/Berlin
BEGIN:STANDARD
DTSTART:20251026T020000
TZOFFSETFROM:+0200
TZOFFSETTO:+0100
TZNAME:CET
END:STANDARD
END:VTIMEZONE
END:VCALENDAR