BEGIN:VCALENDAR
VERSION:2.0
PRODID:-//wp-events-plugin.com//7.2.3.1//EN
TZID:Europe/Berlin
X-WR-TIMEZONE:Europe/Berlin
BEGIN:VEVENT
UID:27@dge-mv.de
DTSTART;TZID=Europe/Berlin:20260323T090000
DTEND;TZID=Europe/Berlin:20260323T113000
DTSTAMP:20260128T122936Z
URL:https://dge-mv.de/veranstaltungen/kurz-seminar-zu-ernaehrungstherapie-
 in-der-onkologie/
SUMMARY:Kurz-Seminar zu Ernährungstherapie in der Onkologie
DESCRIPTION:Kurz-Seminar zu Ernährungstherapie in der Onkologie fällt lei
 der aus\n\nInhalt:\n\nEine individuelle ernährungstherapeutische Interven
 tion kann bei Krebspatienten in jeder Phase der Erkrankung eine wichtige R
 olle spielen. Das Internet ist voll mit teils widersprüchlichen und unrea
 listischen Heilversprechungen durch bestimmte Ernährungsweisen. Betroffen
 e benötigen möglichst eine frühzeitige und individuelle Intervention\, 
 die sich auf aktuelle\, evidenzbasierte\, Erkenntnisse stützt. Die Ernäh
 rungstherapie in der Onkologie ist komplex\, so dass der Fokus im Kurz-Sem
 inar auf folgende Themen liegt:\n\n 	Häufige Ernährungsprobleme durch di
 e Erkrankung und/oder bei Chemo- und Strahlentherapie\n 	Wissenschaftlich 
 fundierte Erkenntnisse und diätetische Maßnahmen der Ernährungstherapie
  während und nach einer Krebserkrankung\n 	Rezepte und weiterführende 
 Informationen\n 	Fallbeispiele in der Ernährungsberatung (Gruppenarbeit)\
 n\nTermin:           23.03.2026\n\nUhrzeit:          9.00 b
 is 11.30 Uhr (3 UE à 45 Minuten)\n\nGebühr:          30\,00 Euro\n\
 nReferentin: Julia von Grundherr\, Master of Public Health und ausgebildet
 e Diätassistentin\, Wissenschaftliche Mitarbeiterin am Universitätsklini
 kum Hamburg-Eppendorf Hubertus Wald Tumorzentrum\, Universitäres Cancer C
 enter Hamburg (UCCH)
ATTACH;FMTTYPE=image/jpeg:https://dge-mv.de/wp-content/uploads/2024/01/Bil
 d_Webinar.png
CATEGORIES:Online-Seminar
END:VEVENT
BEGIN:VTIMEZONE
TZID:Europe/Berlin
X-LIC-LOCATION:Europe/Berlin
BEGIN:STANDARD
DTSTART:20251026T020000
TZOFFSETFROM:+0200
TZOFFSETTO:+0100
TZNAME:CET
END:STANDARD
END:VTIMEZONE
END:VCALENDAR