BEGIN:VCALENDAR
VERSION:2.0
PRODID:-//wp-events-plugin.com//7.2.3.1//EN
TZID:Europe/Berlin
X-WR-TIMEZONE:Europe/Berlin
BEGIN:VEVENT
UID:10@dge-mv.de
DTSTART;TZID=Europe/Berlin:20240311T090000
DTEND;TZID=Europe/Berlin:20240312T124500
DTSTAMP:20231107T110759Z
URL:https://dge-mv.de/veranstaltungen/wenn-kinder-anders-essen-methodische
 s-vorgehen-bei-essauffaelligkeiten-2/
SUMMARY:Wenn Kinder anders essen - methodisches Vorgehen bei Essauffälligk
 eiten
DESCRIPTION:\n\nWenn Kinder anders essen - methodisches Vorgehen bei Essauf
 fälligkeiten\nZielsetzung\nEssauffälligkeiten gehören zur Entwicklung v
 on Kindern dazu. Bei fast einem Drittel aller Säuglinge und Kleinkinder b
 eschreiben Eltern Probleme beim Füttern oder Essen. Liegt zusätzlich noc
 h eine Gedeihstörung in Form von deutlichem Untergewicht vor\, ist es bes
 onders wichtig\, diese durch eine individuelle Ernährungs­beratung schne
 ll und gezielt zu behandeln\, um die körperliche und geistige Entwicklung
  nicht zu gefährden. Dieses Online-Seminar bietet Hilfestellungen bei der
  Beratung von Eltern mit Kindern aller Altersstufen bis zu zehn Jahren\, 
 die ein sehr wählerisches Essverhalten zeigen oder immer wieder Nahrung v
 erweigern. Durch Fallbeispiele und den kollegialen Austausch werden versch
 iedene Möglichkeiten des methodischen Vorgehens aufgezeigt\, wie Eltern i
 m Umgang mit essauffälligen Kindern unterstützt werden können.\nInhalte
 \n\n 	Entwicklung des Essverhaltens und des Geschmackes\n 	Essauffälligke
 iten und Fütterstörungen\n 	Kommunikation zwischen Eltern und Kind\n 	Be
 ratungsablauf und Möglichkeiten des methodischen Vorgehens\n 	Bearbeitung
  von Fallbeispielen\n\nMethoden\nLive-Vortrag\, Gruppenarbeit\, Fallbeispi
 ele\nUmfang\n8 Unterrichtseinheiten à 45 Minuten\n\nReferentin:\n\nClaudi
 a Thienel\, Diplom-Oecotrophologin (QUETHEB-Registrierung)\, Ernährungsfa
 chkraft Allergologie DAAB\, Bonn\n\n\n
ATTACH;FMTTYPE=image/jpeg:https://dge-mv.de/wp-content/uploads/2023/11/chi
 ldren-5626030_1280.jpg
CATEGORIES:Online-Seminar
END:VEVENT
BEGIN:VTIMEZONE
TZID:Europe/Berlin
X-LIC-LOCATION:Europe/Berlin
BEGIN:STANDARD
DTSTART:20231029T020000
TZOFFSETFROM:+0200
TZOFFSETTO:+0100
TZNAME:CET
END:STANDARD
END:VTIMEZONE
END:VCALENDAR